BEGIN:VCALENDAR
VERSION:2.0
PRODID:gruene-suedhardt.de
METHOD:PUBLISH
BEGIN:VTIMEZONE
TZID:Europe/Berlin
X-LIC-LOCATION:Europe/Berlin
BEGIN:DAYLIGHT
TZOFFSETFROM:+0100
TZOFFSETTO:+0200
TZNAME:CEST
DTSTART:19700329T020000
RRULE:FREQ=YEARLY;INTERVAL=1;BYDAY=-1SU;BYMONTH=3
END:DAYLIGHT
BEGIN:STANDARD
TZOFFSETFROM:+0200
TZOFFSETTO:+0100
TZNAME:CET
DTSTART:19701025T030000
RRULE:FREQ=YEARLY;INTERVAL=1;BYDAY=-1SU;BYMONTH=10
END:STANDARD
END:VTIMEZONE
BEGIN:VEVENT
UID:bf2657d29b9b71e7f028a86c89c7f77f@gruene-suedhardt.de
URL;VALUE=URI:https://gruene-suedhardt.de/termine/regenerative-energien-i
 n-unserem-ortsverband/
LOCATION:Germania Klause, Würmersheim
SUMMARY:Regenerative Energien in unserem Ortsverband
DESCRIPTION;ALTREP="data:text/html,Der%20OV%20S%C3%BCdhardt%20l%C3%A4dt%2
 0alle%20Mitglieder%20und%20Interessenten%20herzlich%20zur%20n%C3%A4chsten
 %20Mitgliederversammlung%20ein.%0D%0A%0D%0A%3Cstrong%3EEingeladen%20und%2
 0ihr%20Kommen%20zugesagt%20haben%20der%20Durmersheimer%20B%C3%BCrgermeist
 er%20Klaus%20Eckert%20und%20der%201.%20Vorsitzende%20der%20B%C3%BCrgerEne
 rgiegenossenschaft%20Durmersheim%2C%20Hartmut%20Oesten.%3C%2Fstrong%3E%0D
 %0A%0D%0ABei%20der%20Veranstaltung%20werden%20Interessantes%20zum%20Thema
 %20Solaranlagen%20und%20Windkraft%20in%20unserer%20Region%20erfahren.":De
 r OV Südhardt lädt alle Mitglieder und Interessenten herzlich zur näch
 sten Mitgliederversammlung ein.\n\nEingeladen und ihr Kommen zugesagt hab
 en der Durmersheimer Bürgermeister Klaus Eckert und der 1. Vorsitzende d
 er BürgerEnergiegenossenschaft Durmersheim\, Hartmut Oesten.\n\nBei der 
 Veranstaltung werden Interessantes zum Thema Solaranlagen und Windkraft i
 n unserer Region erfahren.
CLASS:PUBLIC
DTSTART;TZID=Europe/Berlin:20230119T193000
DTEND;TZID=Europe/Berlin:20230119T203000
DTSTAMP:20260422T112350
END:VEVENT
END:VCALENDAR