BEGIN:VCALENDAR
VERSION:2.0
PRODID:gruene-suedhardt.de
METHOD:PUBLISH
BEGIN:VTIMEZONE
TZID:Europe/Berlin
X-LIC-LOCATION:Europe/Berlin
BEGIN:DAYLIGHT
TZOFFSETFROM:+0100
TZOFFSETTO:+0200
TZNAME:CEST
DTSTART:19700329T020000
RRULE:FREQ=YEARLY;INTERVAL=1;BYDAY=-1SU;BYMONTH=3
END:DAYLIGHT
BEGIN:STANDARD
TZOFFSETFROM:+0200
TZOFFSETTO:+0100
TZNAME:CET
DTSTART:19701025T030000
RRULE:FREQ=YEARLY;INTERVAL=1;BYDAY=-1SU;BYMONTH=10
END:STANDARD
END:VTIMEZONE
BEGIN:VEVENT
UID:7782587f9c8702cd78d5e3f60e3342d0@gruene-suedhardt.de
URL;VALUE=URI:https://gruene-suedhardt.de/termine/save-the-date-mitgliede
 rversammlung/
LOCATION:Alter Tabakschuppen, Stöckwiese 6, Bietigheim
SUMMARY:Save the date – Mitgliederversammlung
DESCRIPTION;ALTREP="data:text/html,%0A%3Cp%3EAm%20Dienstag%2C%201.%20Juli
 %202025%20findet%20die%20n%C3%A4chste%20Mitgliederversammlung%20statt.%3C
 br%3E%3Cbr%3EBitte%20merkt%20euch%20den%20Termin%20schon%20vor.%3Cbr%3E%3
 Cbr%3EOrt%20und%20Tagesordnung%20folgen.%3C%2Fp%3E%0A%0A%0A%0A%3Cp%3E%3C%
 2Fp%3E%0A":Am Dienstag\, 1. Juli 2025 findet die nächste Mitgliederversa
 mmlung statt.Bitte merkt euch den Termin schon vor.Ort und Tagesordnung f
 olgen.
CLASS:PUBLIC
DTSTART;TZID=Europe/Berlin:20250701T190000
DTEND;TZID=Europe/Berlin:20250701T220000
DTSTAMP:20260422T112231
END:VEVENT
END:VCALENDAR