BEGIN:VCALENDAR
VERSION:2.0
PRODID:gruene-suedhardt.de
METHOD:PUBLISH
BEGIN:VTIMEZONE
TZID:Europe/Berlin
X-LIC-LOCATION:Europe/Berlin
BEGIN:DAYLIGHT
TZOFFSETFROM:+0100
TZOFFSETTO:+0200
TZNAME:CEST
DTSTART:19700329T020000
RRULE:FREQ=YEARLY;INTERVAL=1;BYDAY=-1SU;BYMONTH=3
END:DAYLIGHT
BEGIN:STANDARD
TZOFFSETFROM:+0200
TZOFFSETTO:+0100
TZNAME:CET
DTSTART:19701025T030000
RRULE:FREQ=YEARLY;INTERVAL=1;BYDAY=-1SU;BYMONTH=10
END:STANDARD
END:VTIMEZONE
BEGIN:VEVENT
UID:2a1b11b4dd75437f032e6cf1ebc5bdcd@gruene-suedhardt.de
URL;VALUE=URI:https://gruene-suedhardt.de/termine/stadtradeln/
LOCATION:
SUMMARY:Stadtradeln
DESCRIPTION;ALTREP="data:text/html,Insbesondere%20auf%20k%C3%BCrzeren%20S
 trecken%20ist%20das%20Fahrrad%20fast%20immer%20das%20bessere%20und%20deut
 lich%20schnellere%20Verkehrsmittel.%20Das%20soll%20beim%20diesj%C3%A4hrig
 en%20Stadtradeln%20erneut%20gezeigt%20werden.%0D%0A%0D%0AViele%20Wege%2C%
 20auch%20zum%20einkaufen%20in%20%C3%96tigheim%20oder%20in%20den%20Nachbar
 gemeinden%2C%20k%C3%B6nnen%20problemlos%20mit%20dem%20Fahrrad%20absolvier
 t%20werden.%20Das%20kann%20in%20den%20kommenden%20drei%20Wochen%20beim%20
 Stadtradeln%20jede%20und%20jeder%20selbst%20erleben.%20Denn%20leider%20wi
 rd%20noch%20immer%20zu%20h%C3%A4ufig%20und%20zu%20gedankenlos%20ins%20Aut
 os%20gesessen.%20Selbst%20wenn%20nur%20die%20Fr%C3%BChst%C3%BCcksbr%C3%B6
 tchen%20beim%20B%C3%A4cker%20gekauft%20werden%20sollen.%20Dabei%20ist%20F
 ahrradfahren%20nicht%20nur%20ein%20Gewinn%20f%C3%BCr%20Umwelt-%20und%20Kl
 imaschutz%2C%20es%20ist%20auch%20deutlich%20billiger%20als%20das%20Auto.%
 20Und%20nicht%20zuletzt%20tut%20Fahrradfahren%20dem%20eigenen%20K%C3%B6rp
 er%20richtig%20gut.%20Laut%20einer%20Studie%20der%20Weltgesundheitsorgani
 sation%20%28WHO%29%20verl%C3%A4ngert%20sich%20die%20Lebenszeit%20bei%20Fa
 hrradfahreden%20um%20rund%2014%20Monate.%20Zudem%20kommen%20Erkrankungen%
 2C%20insbesondere%20Herz-Kreislauf-Erkrankungen%2C%20seltener%20vor.%0D%0
 A%0D%0ALeider%20sorgen%20fehlende%20Radwege%20und%20unn%C3%B6tige%20Hinde
 rnisse%20daf%C3%BCr%2C%20dass%20Fahrradfahren%20%E2%80%93%20auch%20in%20%
 C3%96tigheim%20%E2%80%93%20nicht%20immer%20Spa%C3%9F%20macht.%20Beim%20St
 adtradeln%20k%C3%B6nnen%20wir%20solche%20Schw%C3%A4chen%20im%20System%20%
 22Radwege%22%20entdecken%20und%20damit%20der%20Gemeinde%20und%20den%20Gem
 einderat%20helfen%2C%20solche%20Problemzonen%20zu%20ver%C3%A4ndern.%20In%
 20der%20Mannschaft%20%22Gr%C3%BCne%20Radler%20%C3%96tigheim%22%2C%20die%2
 0selbstverst%C3%A4ndlich%20offen%20ist%20f%C3%BCr%20alle%20%22gr%C3%BCn%2
 0denkenden%20und%20handelnden%22%20%C3%96tigheimer%2C%20freuen%20wir%20un
 s%20auf%20Verst%C3%A4rkung.%0D%0AAnmelden%20und%20gemeinsam%20Kilometer%2
 0sammeln%20ist%20ganz%20einfach.%20Unter%20www.stadtradeln.de%20anmelden%
 20%E2%80%93%20%C3%96tigheim%20ausw%C3%A4hlen%20%E2%80%93%20Team%20%22Gr%C
 3%BCne%20Radler%20%C3%96tigheim%22%20ausw%C3%A4hlen%20und%20bis%20zum%201
 5.%20Juli%20gemeinsam%20mit%20uns%20Kilometer%20sammeln.":Insbesondere au
 f kürzeren Strecken ist das Fahrrad fast immer das bessere und deutlich 
 schnellere Verkehrsmittel. Das soll beim diesjährigen Stadtradeln erneut
  gezeigt werden.\n\nViele Wege\, auch zum einkaufen in Ötigheim oder in 
 den Nachbargemeinden\, können problemlos mit dem Fahrrad absolviert werd
 en. Das kann in den kommenden drei Wochen beim Stadtradeln jede und jeder
  selbst erleben. Denn leider wird noch immer zu häufig und zu gedankenlo
 s ins Autos gesessen. Selbst wenn nur die Frühstücksbrötchen beim Bäc
 ker gekauft werden sollen. Dabei ist Fahrradfahren nicht nur ein Gewinn f
 ür Umwelt- und Klimaschutz\, es ist auch deutlich billiger als das Auto.
  Und nicht zuletzt tut Fahrradfahren dem eigenen Körper richtig gut. Lau
 t einer Studie der Weltgesundheitsorganisation (WHO) verlängert sich die
  Lebenszeit bei Fahrradfahreden um rund 14 Monate. Zudem kommen Erkrankun
 gen\, insbesondere Herz-Kreislauf-Erkrankungen\, seltener vor.\n\nLeider 
 sorgen fehlende Radwege und unnötige Hindernisse dafür\, dass Fahrradfa
 hren – auch in Ötigheim – nicht immer Spaß macht. Beim Stadtradeln 
 können wir solche Schwächen im System "Radwege" entdecken und damit der
  Gemeinde und den Gemeinderat helfen\, solche Problemzonen zu verändern.
  In der Mannschaft "Grüne Radler Ötigheim"\, die selbstverständlich of
 fen ist für alle "grün denkenden und handelnden" Ötigheimer\, freuen w
 ir uns auf Verstärkung.\n\nAnmelden und gemeinsam Kilometer sammeln ist 
 ganz einfach. Unter www.stadtradeln.de anmelden – Ötigheim auswählen 
 – Team "Grüne Radler Ötigheim" auswählen und bis zum 15. Juli gemein
 sam mit uns Kilometer sammeln.
CLASS:PUBLIC
DTSTART;TZID=Europe/Berlin:20230625T180400
DTEND;TZID=Europe/Berlin:20230715T180500
DTSTAMP:20260422T112212
END:VEVENT
END:VCALENDAR