BEGIN:VCALENDAR
VERSION:2.0
PRODID:gruene-suedhardt.de
METHOD:PUBLISH
BEGIN:VTIMEZONE
TZID:Europe/Berlin
X-LIC-LOCATION:Europe/Berlin
BEGIN:DAYLIGHT
TZOFFSETFROM:+0100
TZOFFSETTO:+0200
TZNAME:CEST
DTSTART:19700329T020000
RRULE:FREQ=YEARLY;INTERVAL=1;BYDAY=-1SU;BYMONTH=3
END:DAYLIGHT
BEGIN:STANDARD
TZOFFSETFROM:+0200
TZOFFSETTO:+0100
TZNAME:CET
DTSTART:19701025T030000
RRULE:FREQ=YEARLY;INTERVAL=1;BYDAY=-1SU;BYMONTH=10
END:STANDARD
END:VTIMEZONE
BEGIN:VEVENT
UID:a6a15b1b1233916b5f37c5b480f7d88a@gruene-suedhardt.de
URL;VALUE=URI:https://gruene-suedhardt.de/termine/stadtradeln-2026/
LOCATION:
SUMMARY:Stadtradeln 2026
DESCRIPTION;ALTREP="data:text/html,%0A%3Cp%3EVom%2026.%20Juni%20bis%2018.
 %20Juli%202026%20findet%20das%20diesj%C3%A4hrige%20Stadtradeln%20statt.%2
 0%3Cbr%3E%3Cbr%3EWeitere%20Infos%20folgen.%3C%2Fp%3E%0A%0A%0A%0A%3Cp%3E%3
 C%2Fp%3E%0A":Vom 26. Juni bis 18. Juli 2026 findet das diesjährige Stadt
 radeln statt. Weitere Infos folgen.
CLASS:PUBLIC
DTSTART;TZID=Europe/Berlin:20260628
DTEND;TZID=Europe/Berlin:20260719
DTSTAMP:20260422T144354
END:VEVENT
END:VCALENDAR