BEGIN:VCALENDAR
VERSION:2.0
PRODID:gruene-suedhardt.de
METHOD:PUBLISH
BEGIN:VTIMEZONE
TZID:Europe/Berlin
X-LIC-LOCATION:Europe/Berlin
BEGIN:DAYLIGHT
TZOFFSETFROM:+0100
TZOFFSETTO:+0200
TZNAME:CEST
DTSTART:19700329T020000
RRULE:FREQ=YEARLY;INTERVAL=1;BYDAY=-1SU;BYMONTH=3
END:DAYLIGHT
BEGIN:STANDARD
TZOFFSETFROM:+0200
TZOFFSETTO:+0100
TZNAME:CET
DTSTART:19701025T030000
RRULE:FREQ=YEARLY;INTERVAL=1;BYDAY=-1SU;BYMONTH=10
END:STANDARD
END:VTIMEZONE
BEGIN:VEVENT
UID:73730b68a33820bcc94472865dcf6792@gruene-suedhardt.de
URL;VALUE=URI:https://gruene-suedhardt.de/termine/tiefengeothermie-chance
 n-und-risiken-in-unserer-region/
LOCATION:Rossi-Haus, Rastatt
SUMMARY:Tiefengeothermie – Chancen und Risiken in unserer Region
DESCRIPTION;ALTREP="data:text/html,%3Cdiv%20class%3D%22teaser-text%22%3E%
 0D%0A%0D%0ADie%20B%C3%BCrgerinnen%20und%20B%C3%BCrgern%20wie%20auch%20die
 %20Wirtschaft%20brauchen%20klimaneutrale%20und%20preisg%C3%BCnstige%20Ene
 rgie.%20Die%20Tiefengeothermie%20ist%20ein%20wichtiger%20Baustein%20im%20
 k%C3%BCnftigen%20Energiemix.%0D%0A%0D%0A%3C%2Fdiv%3E%0D%0A%3Cdiv%20class%
 3D%22news-img-wrap%22%3E%0D%0A%3Cdiv%20class%3D%22outer%22%3E%0D%0A%3Cdiv
 %20class%3D%22mediaelement%20mediaelement-image%22%3E%3C%2Fdiv%3E%0D%0A%3
 C%2Fdiv%3E%0D%0A%3C%2Fdiv%3E%0D%0A%3Cdiv%20class%3D%22news-text-wrap%22%3
 E%0D%0A%0D%0ATiefengeothermie%20nutzt%20die%20im%20hei%C3%9Fen%20Gestein%
 20gespeicherte%20W%C3%A4rmeenergie%2C%20die%20permanent%20aus%20dem%20Erd
 inneren%20erg%C3%A4nzt%20wird.%20Mit%20seinem%20hohen%20Potenzial%20biete
 n%20sich%20insbesondere%20im%20Oberrheingraben%20und%20in%20Mittelbaden%2
 0gute%20Nutzungsm%C3%B6glichkeiten.%20Da%20die%20Erdw%C3%A4rme%20ganzj%C3
 %A4hrig%20und%20wetterunabh%C3%A4ngig%20zur%20Verf%C3%BCgung%20steht%2C%2
 0ist%20sie%20grundlastf%C3%A4hig.%0D%0A%0D%0ANeben%20der%20W%C3%A4rmegewi
 nnung%20liegen%20weitere%20Chancen%20der%20Tiefengeothermie%20in%20der%20
 Erzeugung%20von%20Strom%20und%20in%20der%20Gewinnung%20von%20Rohstoffen%2
 0wie%20Lithium.%0D%0A%0D%0ADie%20beiden%20Landtagsabgeordneten%20Hans-Pet
 er%20Behrens%20%28Wahlkreis%20Baden-Baden%2FB%C3%BChl%29%20und%20Thomas%2
 0Hentschel%20%28Wahlkreis%20Rastatt%29%20m%C3%B6chten%20dieses%20Thema%20
 im%20Rahmen%20einer%20%C3%B6ffentlichen%20Informationsveranstaltung%20dis
 kutieren.%20Gemeinsam%20mit%20drei%20Referent%3Ainnen%20wollen%20sie%20Hi
 ntergr%C3%BCnde%2C%20Chancen%2C%20Voraussetzungen%20dieser%20Technologie%
 20erl%C3%A4utern%20und%20ebenso%20auf%20Vorbehalte%20und%20%C3%84ngste%20
 in%20Teilen%20der%20Bev%C3%B6lkerung%20eingehen.%0D%0A%0D%0A%3Cstrong%3ED
 ie%20Vortr%C3%A4ge%3A%3C%2Fstrong%3E%0D%0A%0D%0A%3Cstrong%3EFabienne%20K%
 C3%B6rner%2C%20Energieagentur%20Mittelbaden%3A%3C%2Fstrong%3E%C2%A0Grundl
 agen%20zu%20Klimaschutz%2C%20W%C3%A4rmewende%20und%20W%C3%A4rmenetze%20f%
 C3%BCr%20die%20Region.%0D%0A%0D%0A%3Cstrong%3EHans-Peter%20Behrens%20MdL%
 3A%3C%2Fstrong%3E%C2%A0%C3%96ffentliche%20Diskussion%20und%20politische%2
 0Hintergr%C3%BCnde%0D%0A%0D%0A%3Cstrong%3EProf.%20Frank%20Schilling%2C%20
 KIT-Landesforschungszentrum%20Geothermie%3A%3C%2Fstrong%3E%C2%A0Geologie%
 20%2B%20Systeme%0D%0A%0D%0A%3Cstrong%3ERon%20Zippelius%2C%20Deutsche%20Er
 dW%C3%A4rme%20GmbH%3A%3C%2Fstrong%3E%C2%A0Erfahrungen%20aus%20Graben-Neud
 orf%20und%20Schutzma%C3%9Fnahmen%0D%0A%0D%0AInteressierte%20sind%20herzli
 ch%20dazu%20eingeladen%2C%20am%2024.%20M%C3%A4rz%20um%2018%3A30%20Uhr%2C%
 20in%20das%20Rossi-Haus%20in%20Rastatt%20zu%20kommen.%20Eine%20Sitzplatzr
 eservierung%20ist%20unter%C2%A0thomas.hentschel.wk%40gruene.landtag-bw.de
 %C2%A0m%C3%B6glich.%C2%A0%20Die%20Zahl%20der%20Sitzpl%C3%A4tze%20ist%20be
 grenzt.%0D%0A%0D%0AEinlass%20ist%20ab%2018%3A00%20Uhr%2C%20Veranstaltungs
 ende%20gegen%2021%3A00%20Uhr.%0D%0A%0D%0A%3C%2Fdiv%3E%0D%0A%3Cdiv%20class
 %3D%22news-related-wrap%22%3E%3C%2Fdiv%3E":Die Bürgerinnen und Bürgern 
 wie auch die Wirtschaft brauchen klimaneutrale und preisgünstige Energie
 . Die Tiefengeothermie ist ein wichtiger Baustein im künftigen Energiemi
 x.\n\nTiefengeothermie nutzt die im heißen Gestein gespeicherte Wärmeen
 ergie\, die permanent aus dem Erdinneren ergänzt wird. Mit seinem hohen 
 Potenzial bieten sich insbesondere im Oberrheingraben und in Mittelbaden 
 gute Nutzungsmöglichkeiten. Da die Erdwärme ganzjährig und wetterunabh
 ängig zur Verfügung steht\, ist sie grundlastfähig.\n\nNeben der Wärm
 egewinnung liegen weitere Chancen der Tiefengeothermie in der Erzeugung v
 on Strom und in der Gewinnung von Rohstoffen wie Lithium.\n\nDie beiden L
 andtagsabgeordneten Hans-Peter Behrens (Wahlkreis Baden-Baden/Bühl) und 
 Thomas Hentschel (Wahlkreis Rastatt) möchten dieses Thema im Rahmen eine
 r öffentlichen Informationsveranstaltung diskutieren. Gemeinsam mit drei
  Referent:innen wollen sie Hintergründe\, Chancen\, Voraussetzungen dies
 er Technologie erläutern und ebenso auf Vorbehalte und Ängste in Teilen
  der Bevölkerung eingehen.\n\nDie Vorträge:\n\nFabienne Körner\, Energ
 ieagentur Mittelbaden: Grundlagen zu Klimaschutz\, Wärmewende und Wärm
 enetze für die Region.\n\nHans-Peter Behrens MdL: Öffentliche Diskussi
 on und politische Hintergründe\n\nProf. Frank Schilling\, KIT-Landesfors
 chungszentrum Geothermie: Geologie + Systeme\n\nRon Zippelius\, Deutsche
  ErdWärme GmbH: Erfahrungen aus Graben-Neudorf und Schutzmaßnahmen\n\n
 Interessierte sind herzlich dazu eingeladen\, am 24. März um 18:30 Uhr\,
  in das Rossi-Haus in Rastatt zu kommen. Eine Sitzplatzreservierung ist u
 nter thomas.hentschel.wk@gruene.landtag-bw.de möglich.  Die Zahl der 
 Sitzplätze ist begrenzt.\n\nEinlass ist ab 18:00 Uhr\, Veranstaltungsend
 e gegen 21:00 Uhr.
CLASS:PUBLIC
DTSTART;TZID=Europe/Berlin:20230324T183000
DTEND;TZID=Europe/Berlin:20230324T193000
DTSTAMP:20260422T112358
END:VEVENT
END:VCALENDAR