BEGIN:VCALENDAR
VERSION:2.0
PRODID:gruene-suedhardt.de
METHOD:PUBLISH
BEGIN:VTIMEZONE
TZID:Europe/Berlin
X-LIC-LOCATION:Europe/Berlin
BEGIN:DAYLIGHT
TZOFFSETFROM:+0100
TZOFFSETTO:+0200
TZNAME:CEST
DTSTART:19700329T020000
RRULE:FREQ=YEARLY;INTERVAL=1;BYDAY=-1SU;BYMONTH=3
END:DAYLIGHT
BEGIN:STANDARD
TZOFFSETFROM:+0200
TZOFFSETTO:+0100
TZNAME:CET
DTSTART:19701025T030000
RRULE:FREQ=YEARLY;INTERVAL=1;BYDAY=-1SU;BYMONTH=10
END:STANDARD
END:VTIMEZONE
BEGIN:VEVENT
UID:36ca9e624a18556058bd61c20f3b9e6e@gruene-suedhardt.de
URL;VALUE=URI:https://gruene-suedhardt.de/termine/und-alles-bleibt-anders
 /
LOCATION:Kellertheater Rastatt, Herrenstraße 24, Rastatt
SUMMARY:Und alles bleibt anders
DESCRIPTION;ALTREP="data:text/html,%0A%3Cfigure%20class%3D%22wp-block-ima
 ge%20size-large%22%3E%3Cimg%20src%3D%22https%3A%2F%2Fgruene-suedhardt.de%
 2Fwp-content%2Fuploads%2F2025%2F11%2FUnd-alles-bleibt-anders-724x1024.jpe
 g%22%20alt%3D%22%22%20class%3D%22wp-image-1522%22%20%2F%3E%3C%2Ffigure%3E
 %0A%0A%0A%0A%3Cp%3E%20%3C%2Fp%3E%0A%0A%0A%0A%3Ch3%20class%3D%22wp-block-h
 eading%22%3EWinfried%20Hermann%26nbsp%3Bliest%20aus%20seinem%20Buch%3C%2F
 h3%3E%0A%0A%0A%0A%3Ch2%20class%3D%22wp-block-heading%22%3EUnd%20alles%20b
 leibt%20anders%3C%2Fh2%3E%0A%0A%0A%0A%3Cp%3EWinfried%20Hermann%20kennt%20
 sich%20mit%20Mobilit%C3%A4t%20aus%20-%20und%20das%20nicht%20erst%20seitde
 m%20er%20Minister%20ist.%20In%20seinem%20Buch%20%22Und%20alles%20bleibt%2
 0anders%3A%20Meine%20kleine%20Geschichte%20der%20Mobilit%C3%A4t%22%20besc
 hreibt%20er%20in%20zw%C3%B6lf%20Kapiteln%20seinen%20pers%C3%B6nlichen%20W
 erdegang.%20Er%20erz%C3%A4hlt%20in%20seinem%20neuen%20Buch%2C%20wie%20er%
 20als%20Enkel%20eines%20Rollwagenspediteurs%20die%26nbsp%3BMotorisierung%
 26nbsp%3Bder%20Gesellschaft%20miterlebte%2C%20wie%20er%20davon%20tr%C3%A4
 umte%2C%20im%20Ford%20Taunus%20seines%20Vaters%20zu%20fahren%2C%20warum%2
 0Stra%C3%9Fen-%20und%20Schienenprojekte%20in%20Deutschland%20oft%20Trauer
 spielen%20gleichen%20und%20wie%20die%20Mobilit%C3%A4t%20der%20Zukunft%20a
 ussehen%20wird.%20Auch%20politische%20Skandale%20wie%20das%20Mautdebakel%
 2C%20der%20Streit%20um%20das%20Tempolimit%20und%20die%20Misere%20der%20Ab
 gasmanipulation%20in%20der%20Autoindustrie%20finden%20in%20dem%20Buch%20i
 hren%20Platz.%20Das%20Buch%20ist%20politisch%20und%20pers%C3%B6nlich%20gl
 eicherma%C3%9Fen.%3Cbr%3E%3Cbr%3E%F0%9F%93%85%20Dienstag%2C%2025.%20Novem
 ber%202025%3Cbr%3E%F0%9F%95%96%2019%3A00%20Uhr%3Cbr%3E%F0%9F%91%89%20Kell
 ertheater%20Rastatt%2C%20Herrenstra%C3%9Fe%2024%2C%20Rastatt%3C%2Fp%3E%0A
 ":Winfried Hermann liest aus seinem Buch\n\nUnd alles bleibt anders\n\nW
 infried Hermann kennt sich mit Mobilität aus - und das nicht erst seitde
 m er Minister ist. In seinem Buch "Und alles bleibt anders: Meine kleine 
 Geschichte der Mobilität" beschreibt er in zwölf Kapiteln seinen persö
 nlichen Werdegang. Er erzählt in seinem neuen Buch\, wie er als Enkel ei
 nes Rollwagenspediteurs die Motorisierung der Gesellschaft miterlebte\,
  wie er davon träumte\, im Ford Taunus seines Vaters zu fahren\, warum S
 traßen- und Schienenprojekte in Deutschland oft Trauerspielen gleichen u
 nd wie die Mobilität der Zukunft aussehen wird. Auch politische Skandale
  wie das Mautdebakel\, der Streit um das Tempolimit und die Misere der Ab
 gasmanipulation in der Autoindustrie finden in dem Buch ihren Platz. Das 
 Buch ist politisch und persönlich gleichermaßen.📅 Dienstag\, 25. Nov
 ember 2025🕖 19:00 Uhr👉 Kellertheater Rastatt\, Herrenstraße 24\, R
 astatt
CLASS:PUBLIC
DTSTART;TZID=Europe/Berlin:20251125T190000
DTEND;TZID=Europe/Berlin:20251125T200000
DTSTAMP:20260424T094738
END:VEVENT
END:VCALENDAR