BEGIN:VCALENDAR
VERSION:2.0
PRODID:gruene-suedhardt.de
METHOD:PUBLISH
BEGIN:VTIMEZONE
TZID:Europe/Berlin
X-LIC-LOCATION:Europe/Berlin
BEGIN:DAYLIGHT
TZOFFSETFROM:+0100
TZOFFSETTO:+0200
TZNAME:CEST
DTSTART:19700329T020000
RRULE:FREQ=YEARLY;INTERVAL=1;BYDAY=-1SU;BYMONTH=3
END:DAYLIGHT
BEGIN:STANDARD
TZOFFSETFROM:+0200
TZOFFSETTO:+0100
TZNAME:CET
DTSTART:19701025T030000
RRULE:FREQ=YEARLY;INTERVAL=1;BYDAY=-1SU;BYMONTH=10
END:STANDARD
END:VTIMEZONE
BEGIN:VEVENT
UID:0838f04aadd3c33ab50cd20f27ced37a@gruene-suedhardt.de
URL;VALUE=URI:https://gruene-suedhardt.de/termine/unser-wald-ist-zustand-
 und-zukunft/
LOCATION:Bürgerhaus Alte Schule, Hauptstraße 75, 76479 Steinmauern
SUMMARY:Unser Wald – Ist-Zustand und Zukunft
DESCRIPTION;ALTREP="data:text/html,%3Cp%20style%3D%22text-align%3A%20left
 %22%3E%3Ci%20data-removefontsize%3D%22true%22%20data-originalcomputedfont
 size%3D%2216%22%3EGast%20%3A%20Alexander%20Ehrmann%2C%20Revierf%C3%B6rste
 r%3C%2Fi%3E%3C%2Fp%3E":Gast : Alexander Ehrmann\, Revierförster
CLASS:PUBLIC
DTSTART;TZID=Europe/Berlin:20221123T193000
DTEND;TZID=Europe/Berlin:20221123T203000
DTSTAMP:20260424T094923
END:VEVENT
END:VCALENDAR