BEGIN:VCALENDAR
VERSION:2.0
PRODID:gruene-suedhardt.de
METHOD:PUBLISH
BEGIN:VTIMEZONE
TZID:Europe/Berlin
X-LIC-LOCATION:Europe/Berlin
BEGIN:DAYLIGHT
TZOFFSETFROM:+0100
TZOFFSETTO:+0200
TZNAME:CEST
DTSTART:19700329T020000
RRULE:FREQ=YEARLY;INTERVAL=1;BYDAY=-1SU;BYMONTH=3
END:DAYLIGHT
BEGIN:STANDARD
TZOFFSETFROM:+0200
TZOFFSETTO:+0100
TZNAME:CET
DTSTART:19701025T030000
RRULE:FREQ=YEARLY;INTERVAL=1;BYDAY=-1SU;BYMONTH=10
END:STANDARD
END:VTIMEZONE
BEGIN:VEVENT
UID:32327e9cd025053d936a1b40e856ef27@gruene-suedhardt.de
URL;VALUE=URI:https://gruene-suedhardt.de/termine/verantwortungsvolle-nut
 zierhaltung/
LOCATION:
SUMMARY:Verantwortungsvolle Nutzierhaltung
DESCRIPTION;ALTREP="data:text/html,%3Cdiv%20class%3D%22kvgmc6g5%20cxmmr5t
 8%20oygrvhab%20hcukyx3x%20c1et5uql%22%3EAm%2025.02.%20werden%20Thomas%20H
 entschel%2C%20Hans-Peter%20Behrens%20mit%20Thekla%20Walker%2C%20tierschut
 zpolitische%20Sprecherin%20der%20GR%C3%9CNEN-Landtagsfraktion%2C%20J%C3%B
 Crgen%20M%C3%A4der%20%28Vorstand%20EDEKA%20S%C3%BCdwest%29%2C%20Andreas%2
 0P%C3%B6schel%20%28Gesch%C3%A4ftsf%C3%BChrer%20EDEKA%20S%C3%BCdwest%20Fle
 isch%20GmbH%29%20%C3%BCber%20das%20Thema%20verantwortungsvolle%20Tierhalt
 ung%20sprechen.%3C%2Fdiv%3E%0D%0A%3Cdiv%3E%3C%2Fdiv%3E%0D%0A%3Cdiv%20clas
 s%3D%22o9v6fnle%20cxmmr5t8%20oygrvhab%20hcukyx3x%20c1et5uql%22%3EWie%20k%
 C3%B6nnen%20Nutztiere%20verantwortungsvoll%20gehalten%20werden%3F%20K%C3%
 B6nnen%20Tierschutz%20und%20Schlachtung%20%C3%BCberhaupt%20unter%20einen%
 20Hut%20gebracht%20werden%3F%20Was%20bedeuten%20tiergerechte%20Haltung%20
 und%20Schlachtung%3F%20Wie%20gelingt%20der%20Spagat%20zwischen%20Qualit%C
 3%A4t%20und%20Kundenwunsch%20nach%20billigem%20Fleisch%3F%20Welche%20Roll
 e%20spielen%20die%20Produzent%2Ainnen%20und%20Konsument%2Ainnen%3F%20Und%
 20was%20hat%20die%20gr%C3%BCn%20gef%C3%BChrte%20Landesregierung%20bislang
 %20unternommen%2C%20um%20den%20Tierschutz%20in%20diesem%20Bereich%20zu%20
 st%C3%A4rken%20und%20weitere%20%E2%80%9ESchlachthof-Skandale%E2%80%9C%20z
 u%20verhindern%3F%3C%2Fdiv%3E%0D%0A%3Cdiv%3E%3C%2Fdiv%3E%0D%0A%3Cdiv%20cl
 ass%3D%22o9v6fnle%20cxmmr5t8%20oygrvhab%20hcukyx3x%20c1et5uql%22%3EDies%2
 0und%20weitere%20Fragen%20sollen%20dabei%20er%C3%B6rtert%20werden.%20Wir%
 20w%C3%BCrden%20uns%20freuen%2C%20wenn%20viele%20Zuschauer%20den%20Stream
 %20verfolgen%20w%C3%BCrden%20und%20ihre%20Anmerkungen%20und%20Fragen%20%C
 3%BCber%20den%20Chat%20einbringen%20w%C3%BCrden.%3C%2Fdiv%3E%0D%0ADer%20S
 tream%20wird%20auf%20Facebook%20%28%3Ca%20href%3D%22https%3A%2F%2Ffb.me%2
 Fe%2F1V32kCECv%22%3Ehttps%3A%2F%2Ffb.me%2Fe%2F1V32kCECv%3C%2Fa%3E%29%20%C
 3%BCbertragen.%20Es%20ist%20kein%20Account%20notwendig%20die%20Anmeldung%
 20kann%20einfach%20%C3%BCbersprungen%20werden.":Am 25.02. werden Thomas H
 entschel\, Hans-Peter Behrens mit Thekla Walker\, tierschutzpolitische Sp
 recherin der GRÜNEN-Landtagsfraktion\, Jürgen Mäder (Vorstand EDEKA S
 üdwest)\, Andreas Pöschel (Geschäftsführer EDEKA Südwest Fleisch Gmb
 H) über das Thema verantwortungsvolle Tierhaltung sprechen.\n\nWie könn
 en Nutztiere verantwortungsvoll gehalten werden? Können Tierschutz und S
 chlachtung überhaupt unter einen Hut gebracht werden? Was bedeuten tierg
 erechte Haltung und Schlachtung? Wie gelingt der Spagat zwischen Qualitä
 t und Kundenwunsch nach billigem Fleisch? Welche Rolle spielen die Produz
 ent*innen und Konsument*innen? Und was hat die grün geführte Landesregi
 erung bislang unternommen\, um den Tierschutz in diesem Bereich zu stärk
 en und weitere „Schlachthof-Skandale“ zu verhindern?\n\nDies und weit
 ere Fragen sollen dabei erörtert werden. Wir würden uns freuen\, wenn v
 iele Zuschauer den Stream verfolgen würden und ihre Anmerkungen und Frag
 en über den Chat einbringen würden.\n\nDer Stream wird auf Facebook (ht
 tps://fb.me/e/1V32kCECv) übertragen. Es ist kein Account notwendig die A
 nmeldung kann einfach übersprungen werden.
CLASS:PUBLIC
DTSTART;TZID=Europe/Berlin:20210225T200000
DTEND;TZID=Europe/Berlin:20210225T210000
DTSTAMP:20260424T094923
END:VEVENT
END:VCALENDAR