BEGIN:VCALENDAR
VERSION:2.0
PRODID:gruene-suedhardt.de
METHOD:PUBLISH
BEGIN:VTIMEZONE
TZID:Europe/Berlin
X-LIC-LOCATION:Europe/Berlin
BEGIN:DAYLIGHT
TZOFFSETFROM:+0100
TZOFFSETTO:+0200
TZNAME:CEST
DTSTART:19700329T020000
RRULE:FREQ=YEARLY;INTERVAL=1;BYDAY=-1SU;BYMONTH=3
END:DAYLIGHT
BEGIN:STANDARD
TZOFFSETFROM:+0200
TZOFFSETTO:+0100
TZNAME:CET
DTSTART:19701025T030000
RRULE:FREQ=YEARLY;INTERVAL=1;BYDAY=-1SU;BYMONTH=10
END:STANDARD
END:VTIMEZONE
BEGIN:VEVENT
UID:200add35bd783e7293a5531e7353cabe@gruene-suedhardt.de
URL;VALUE=URI:https://gruene-suedhardt.de/termine/vor-ort-im-dialog-04-02
 -2026/
LOCATION:Wochenmarkt Durmerheim, Chennevières-Platz, 76448 Durmersheim
SUMMARY:Vor Ort im Dialog – Wochenmarkt Durmersheim
DESCRIPTION;ALTREP="data:text/html,%0A%3Cp%3ELassen%20Sie%20uns%20ins%20G
 espr%C3%A4ch%20kommen%20%C3%BCber%20Klimaschutz%2C%20soziale%20Gerechtigk
 eit%20und%20eine%20lebenswerte%20Zukunft%20f%C3%BCr%20alle%21%20Wir%20fre
 uen%20uns%20%C3%BCber%20ihren%20Besuch%20am%20Infostand%20zur%20Landtagsw
 ahl%202%C3%9626.%3C%2Fp%3E%0A%0A%0A%0A%3Cfigure%20class%3D%22wp-block-ima
 ge%20size-large%22%3E%3Cimg%20src%3D%22https%3A%2F%2Fgruene-suedhardt.de%
 2Fwp-content%2Fuploads%2F2026%2F02%2FVor-Ort-im-Dialog-Wochenmarkt-Durmer
 sheim-4.2.26-819x1024.png%22%20alt%3D%22%22%20class%3D%22wp-image-1565%22
 %20%2F%3E%3C%2Ffigure%3E%0A":Lassen Sie uns ins Gespräch kommen über Kl
 imaschutz\, soziale Gerechtigkeit und eine lebenswerte Zukunft für alle!
  Wir freuen uns über ihren Besuch am Infostand zur Landtagswahl 2Ö26.
CLASS:PUBLIC
DTSTART;TZID=Europe/Berlin:20260204T083000
DTEND;TZID=Europe/Berlin:20260204T093000
DTSTAMP:20260422T125418
END:VEVENT
END:VCALENDAR