BEGIN:VCALENDAR
VERSION:2.0
PRODID:gruene-suedhardt.de
METHOD:PUBLISH
BEGIN:VTIMEZONE
TZID:Europe/Berlin
X-LIC-LOCATION:Europe/Berlin
BEGIN:DAYLIGHT
TZOFFSETFROM:+0100
TZOFFSETTO:+0200
TZNAME:CEST
DTSTART:19700329T020000
RRULE:FREQ=YEARLY;INTERVAL=1;BYDAY=-1SU;BYMONTH=3
END:DAYLIGHT
BEGIN:STANDARD
TZOFFSETFROM:+0200
TZOFFSETTO:+0100
TZNAME:CET
DTSTART:19701025T030000
RRULE:FREQ=YEARLY;INTERVAL=1;BYDAY=-1SU;BYMONTH=10
END:STANDARD
END:VTIMEZONE
BEGIN:VEVENT
UID:f57ab6c5c46934ec25f2e73b137fe7fb@gruene-suedhardt.de
URL;VALUE=URI:https://gruene-suedhardt.de/termine/waldbegehung-mit-willi-
 renkert/
LOCATION:Wasserwerk Rheinwald, 76467 Bietigheim
SUMMARY:Waldbegehung mit Willi Renkert
DESCRIPTION;ALTREP="data:text/html,Am%20Freitag%2C%20den%2019.%20Mai%2020
 23%20bietet%20unser%20ehemaliger%20Revierf%C3%B6rster%20Renkert%20eine%20
 Waldbegehung%20an%2C%20zu%20der%20wir%20alle%20Interessierten%20ganz%20he
 rzlich%20einladen%21%0D%0A%0D%0ATreffpunkt%20ist%20das%20Wasserwerk%20Rhe
 inwald%20in%20Bietigheim%20um%2016%20Uhr.%0D%0A%0D%0AWir%20freuen%20uns%2
 0auf%20Euch%21":Am Freitag\, den 19. Mai 2023 bietet unser ehemaliger Rev
 ierförster Renkert eine Waldbegehung an\, zu der wir alle Interessierten
  ganz herzlich einladen!\n\nTreffpunkt ist das Wasserwerk Rheinwald in Bi
 etigheim um 16 Uhr.\n\nWir freuen uns auf Euch!
CLASS:PUBLIC
DTSTART;TZID=Europe/Berlin:20230519T160000
DTEND;TZID=Europe/Berlin:20230519T170000
DTSTAMP:20260422T112233
END:VEVENT
END:VCALENDAR