BEGIN:VCALENDAR
VERSION:2.0
PRODID:gruene-suedhardt.de
METHOD:PUBLISH
BEGIN:VTIMEZONE
TZID:Europe/Berlin
X-LIC-LOCATION:Europe/Berlin
BEGIN:DAYLIGHT
TZOFFSETFROM:+0100
TZOFFSETTO:+0200
TZNAME:CEST
DTSTART:19700329T020000
RRULE:FREQ=YEARLY;INTERVAL=1;BYDAY=-1SU;BYMONTH=3
END:DAYLIGHT
BEGIN:STANDARD
TZOFFSETFROM:+0200
TZOFFSETTO:+0100
TZNAME:CET
DTSTART:19701025T030000
RRULE:FREQ=YEARLY;INTERVAL=1;BYDAY=-1SU;BYMONTH=10
END:STANDARD
END:VTIMEZONE
BEGIN:VEVENT
UID:951234cdd2e57f0b3f42ab7acee67e3d@gruene-suedhardt.de
URL;VALUE=URI:https://gruene-suedhardt.de/termine/wie-geht-gruene-finanzp
 olitik/
LOCATION:Online
SUMMARY:Wie geht grüne Finanzpolitik?
DESCRIPTION;ALTREP="data:text/html,Die%20beiden%20gr%C3%BCnen%20Landtagsa
 bgeordneten%20Thomas%20Hentschel%20%28Wahlkreis%20Rastatt%29%20und%20Hans
 -Peter%20Behrens%20%28Wahlkreis%20Baden-Baden%29%20im%20Gespr%C3%A4ch%20m
 it%20Gisela%20Splett%20%28Staatssekret%C3%A4rin%20im%20Finanzministerium%
 20Baden-W%C3%BCrttemberg%29%0D%0A%0D%0A%3Ca%20href%3D%22https%3A%2F%2Ffb.
 me%2Fe%2F44uhZzpt1%22%3EHier%20geht%E2%80%98s%20direkt%20zum%20Livestream
 %3C%2Fa%3E%0D%0A%0D%0A":Die beiden grünen Landtagsabgeordneten Thomas He
 ntschel (Wahlkreis Rastatt) und Hans-Peter Behrens (Wahlkreis Baden-Baden
 ) im Gespräch mit Gisela Splett (Staatssekretärin im Finanzministerium 
 Baden-Württemberg)\n\nHier geht‘s direkt zum Livestream
CLASS:PUBLIC
DTSTART;TZID=Europe/Berlin:20210127T200000
DTEND;TZID=Europe/Berlin:20210127T210000
DTSTAMP:20260422T112358
END:VEVENT
END:VCALENDAR