BEGIN:VCALENDAR
VERSION:2.0
PRODID:gruene-suedhardt.de
METHOD:PUBLISH
BEGIN:VTIMEZONE
TZID:Europe/Berlin
X-LIC-LOCATION:Europe/Berlin
BEGIN:DAYLIGHT
TZOFFSETFROM:+0100
TZOFFSETTO:+0200
TZNAME:CEST
DTSTART:19700329T020000
RRULE:FREQ=YEARLY;INTERVAL=1;BYDAY=-1SU;BYMONTH=3
END:DAYLIGHT
BEGIN:STANDARD
TZOFFSETFROM:+0200
TZOFFSETTO:+0100
TZNAME:CET
DTSTART:19701025T030000
RRULE:FREQ=YEARLY;INTERVAL=1;BYDAY=-1SU;BYMONTH=10
END:STANDARD
END:VTIMEZONE
BEGIN:VEVENT
UID:cdc0a5aba6b86a89b96135fa04ed66c7@gruene-suedhardt.de
URL;VALUE=URI:https://gruene-suedhardt.de/termine/windkraft-in-muggenstur
 m/
LOCATION:Wolf-Eberstein-Halle, Muggensturm
SUMMARY:Windkraft in Muggensturm
DESCRIPTION;ALTREP="data:text/html,Die%20Errichtung%20von%20Windr%C3%A4de
 rn%20in%20unserer%20gemeinde%20ist%20ein%20aktuelle%20und%20kontroverses%
 20Thema%2C%20dass%20uns%20alle%20betrifft.%20Die%20Gr%C3%BCnen%20in%20Mug
 gensturm%20setzten%20sich%20ein%20f%C3%BCrh%20bezahlbare%2C%20saubere%20E
 nergie%2C%20lokal%20produziert%20und%20unabh%C3%A4ngig%20vom%20Weltgesche
 hen%20sowie%20vertr%C3%A4glich%20f%C3%BCr%20Mensch%20und%20Natur.%0D%0A%0
 D%0ADie%20Podiumsdiskussion%2C%20organisiert%20von%20der%20Gemeinde%20Mug
 gensturm%2C%20bietet%20die%20M%C3%B6glichkeit%2C%20Standpunkte%20von%20Ge
 gner%2Ainnen%20und%20Bef%C3%BCrworter%2Ainnen%20zu%20h%C3%B6ren%20und%20F
 ragen%20zu%20stellen.%20Diese%20m%C3%BCssen%20bis%20zum%2012.05.2023%20be
 i%20der%20Gemeinde%20eingereicht%20werden.%20Wir%20freuen%20uns%20auf%20e
 ine%20informative%20und%20konstruktive%20Diskussion.":Die Errichtung von 
 Windrädern in unserer gemeinde ist ein aktuelle und kontroverses Thema\,
  dass uns alle betrifft. Die Grünen in Muggensturm setzten sich ein für
 h bezahlbare\, saubere Energie\, lokal produziert und unabhängig vom Wel
 tgeschehen sowie verträglich für Mensch und Natur.\n\nDie Podiumsdiskus
 sion\, organisiert von der Gemeinde Muggensturm\, bietet die Möglichkeit
 \, Standpunkte von Gegner*innen und Befürworter*innen zu hören und Frag
 en zu stellen. Diese müssen bis zum 12.05.2023 bei der Gemeinde eingerei
 cht werden. Wir freuen uns auf eine informative und konstruktive Diskussi
 on.
CLASS:PUBLIC
DTSTART;TZID=Europe/Berlin:20230522T180000
DTEND;TZID=Europe/Berlin:20230522T190000
DTSTAMP:20260422T112343
END:VEVENT
END:VCALENDAR