BEGIN:VCALENDAR
VERSION:2.0
PRODID:gruene-suedhardt.de
METHOD:PUBLISH
BEGIN:VTIMEZONE
TZID:Europe/Berlin
X-LIC-LOCATION:Europe/Berlin
BEGIN:DAYLIGHT
TZOFFSETFROM:+0100
TZOFFSETTO:+0200
TZNAME:CEST
DTSTART:19700329T020000
RRULE:FREQ=YEARLY;INTERVAL=1;BYDAY=-1SU;BYMONTH=3
END:DAYLIGHT
BEGIN:STANDARD
TZOFFSETFROM:+0200
TZOFFSETTO:+0100
TZNAME:CET
DTSTART:19701025T030000
RRULE:FREQ=YEARLY;INTERVAL=1;BYDAY=-1SU;BYMONTH=10
END:STANDARD
END:VTIMEZONE
BEGIN:VEVENT
UID:190bd5a6a0c2d58b1bc75ad57331df62@gruene-suedhardt.de
URL;VALUE=URI:https://gruene-suedhardt.de/termine/zukunft-der-landwirtsch
 aft/
LOCATION:
SUMMARY:Zukunft der Landwirtschaft
DESCRIPTION;ALTREP="data:text/html,%3Ch4%3EAm%2005.08.%20um%2020%20Uhr%20
 treffen%20sich%20Thomas%20G%C3%B6nner%2C%20Bundestagskandidat%20von%20B%C
 3%BCndnis%2090%2FDie%20Gr%C3%BCnen%20f%C3%BCr%20den%20Wahlkreis%20Rastatt
 %2C%20und%20Martina%20Braun%2C%20Gr%C3%BCne%20Landtagsabgeordnete%20f%C3%
 BCr%20Villingen-Schwenningen%2C%20zu%20einer%20Veranstaltung%20zum%20Them
 a%20%E2%80%9EZukunft%20der%20Landwirtschaft%E2%80%9C.%3C%2Fh4%3E%0D%0A%E2
 %80%9EWir%20wollen%20Umwelt-%2C%20Tier-%2C%20Klima-%20und%20Gew%C3%A4sser
 schutz%20und%20landwirtschaftliche%20Erzeugung%20miteinander%20vers%C3%B6
 hnen.%20Die%20Landwirtschaft%20fit%20f%C3%BCr%20die%20Zukunft%20zu%20mach
 en%20%E2%80%93%20das%20begreifen%20wir%20als%20Aufgabe%20f%C3%BCr%20die%2
 0n%C3%A4chsten%20Jahre.%20Das%20geht%20nur%20mit%20der%20Natur%20zusammen
 %20und%20mit%20einem%20Verst%C3%A4ndnis%20von%20Natur%2C%20das%20sich%20a
 n%20Kreisl%C3%A4ufen%20orientiert%20und%20sich%20dem%20Ressourcenschutz%2
 0verpflichtet%20sieht.%20Das%20bedeutet%20fruchtbare%20B%C3%B6den%2C%20sa
 uberes%20Wasser%20und%20intakte%20%C3%96kosysteme%2C%20aber%20auch%20fair
 e%20Bezahlung%20von%20Landwirt%2Ainnen%20und%20ein%20ge%C3%A4ndertes%20Er
 n%C3%A4hrungssystem.%E2%80%9C%2C%20so%20G%C3%B6nner.%0D%0A%0D%0ABraun%20e
 rg%C3%A4nzt%3A%20%E2%80%9EDen%20%C3%96kolandbau%20wollen%20wir%20umfangre
 ich%20f%C3%B6rdern%20und%20die%20Voraussetzungen%20daf%C3%BCr%20schaffen%
 2C%20dass%20k%C3%BCnftig%20immer%20mehr%20B%C3%A4uer%2Ainnen%20und%20Lebe
 nsmittelhersteller%20umstellen.%20Monokulturen%20und%20chemische%20D%C3%B
 Cnger%20f%C3%BChren%20auch%20im%20globalen%20S%C3%BCden%20zu%20erhebliche
 n%20Sch%C3%A4den%20f%C3%BCr%20Gesundheit%20und%20Umwelt%2C%20w%C3%A4hrend
 %20Kleinb%C3%A4uer%2Ainnen%20durch%20europ%C3%A4ische%20Dumpingexporte%2C
 %20patentiertes%20Saatgut%20und%20Landraub%20weiter%20in%20die%20Abh%C3%A
 4ngigkeit%20getrieben%20werden.%20Das%20Recht%20auf%20Nahrung%20muss%20ga
 rantiert%20sein%2C%20kleinb%C3%A4uerliche%20Strukturen%20sollten%20gest%C
 3%A4rkt%20werden.%20Daf%C3%BCr%20unterst%C3%BCtzen%20wir%20mit%20unserer%
 20Agrar-%20und%20Entwicklungspolitik%20eine%20globale%20sozial-%C3%B6kolo
 gische%20Agrarwende.%E2%80%9C%0D%0A%0D%0AAll%20diese%20Fragen%20und%20die
 %20gr%C3%BCnen%20Ideen%20f%C3%BCr%20die%20Zukunft%20der%20Landwirtschaft%
 20m%C3%B6chte%20G%C3%B6nner%20gemeinsam%20mit%20Braun%20diskutieren.%20Le
 tztere%20ist%20Sprecherin%20f%C3%BCr%20Tierschutz%20der%20Landtagsfraktio
 n%20sowie%20stellvertretende%20Arbeitskreisvorsitzende%20f%C3%BCr%20Ern%C
 3%A4hrung%2C%20L%C3%A4ndlichen%20Raum%20und%20Verbraucherschutz.%0D%0A%0D
 %0ADie%20Veranstaltung%20wird%20%C3%BCber%20die%20Plattform%20GoToMeeting
 %20stattfinden.%20Interessierte%20k%C3%B6nnen%20sich%20via%20%3Cu%3E%3Ca%
 20href%3D%22mailto%3Ainfo.thomas.goenner%40posteo.de%22%20target%3D%22_bl
 ank%22%20rel%3D%22noopener%22%3Einfo.thomas.goenner%40posteo.de%3C%2Fa%3E
 %3C%2Fu%3E%20anmelden.":Am 05.08. um 20 Uhr treffen sich Thomas Gönner\,
  Bundestagskandidat von Bündnis 90/Die Grünen für den Wahlkreis Rastat
 t\, und Martina Braun\, Grüne Landtagsabgeordnete für Villingen-Schwenn
 ingen\, zu einer Veranstaltung zum Thema „Zukunft der Landwirtschaft“
 .\n\n„Wir wollen Umwelt-\, Tier-\, Klima- und Gewässerschutz und landw
 irtschaftliche Erzeugung miteinander versöhnen. Die Landwirtschaft fit f
 ür die Zukunft zu machen – das begreifen wir als Aufgabe für die näc
 hsten Jahre. Das geht nur mit der Natur zusammen und mit einem Verständn
 is von Natur\, das sich an Kreisläufen orientiert und sich dem Ressource
 nschutz verpflichtet sieht. Das bedeutet fruchtbare Böden\, sauberes Was
 ser und intakte Ökosysteme\, aber auch faire Bezahlung von Landwirt*inne
 n und ein geändertes Ernährungssystem.“\, so Gönner.\n\nBraun ergän
 zt: „Den Ökolandbau wollen wir umfangreich fördern und die Voraussetz
 ungen dafür schaffen\, dass künftig immer mehr Bäuer*innen und Lebensm
 ittelhersteller umstellen. Monokulturen und chemische Dünger führen auc
 h im globalen Süden zu erheblichen Schäden für Gesundheit und Umwelt\,
  während Kleinbäuer*innen durch europäische Dumpingexporte\, patentier
 tes Saatgut und Landraub weiter in die Abhängigkeit getrieben werden. Da
 s Recht auf Nahrung muss garantiert sein\, kleinbäuerliche Strukturen so
 llten gestärkt werden. Dafür unterstützen wir mit unserer Agrar- und E
 ntwicklungspolitik eine globale sozial-ökologische Agrarwende.“\n\nAll
  diese Fragen und die grünen Ideen für die Zukunft der Landwirtschaft m
 öchte Gönner gemeinsam mit Braun diskutieren. Letztere ist Sprecherin f
 ür Tierschutz der Landtagsfraktion sowie stellvertretende Arbeitskreisvo
 rsitzende für Ernährung\, Ländlichen Raum und Verbraucherschutz.\n\nDi
 e Veranstaltung wird über die Plattform GoToMeeting stattfinden. Interes
 sierte können sich via info.thomas.goenner@posteo.de anmelden.
CLASS:PUBLIC
DTSTART;TZID=Europe/Berlin:20210805T200000
DTEND;TZID=Europe/Berlin:20210805T210000
DTSTAMP:20260422T112344
END:VEVENT
END:VCALENDAR