BEGIN:VCALENDAR
VERSION:2.0
PRODID:gruene-suedhardt.de
METHOD:PUBLISH
BEGIN:VTIMEZONE
TZID:Europe/Berlin
X-LIC-LOCATION:Europe/Berlin
BEGIN:DAYLIGHT
TZOFFSETFROM:+0100
TZOFFSETTO:+0200
TZNAME:CEST
DTSTART:19700329T020000
RRULE:FREQ=YEARLY;INTERVAL=1;BYDAY=-1SU;BYMONTH=3
END:DAYLIGHT
BEGIN:STANDARD
TZOFFSETFROM:+0200
TZOFFSETTO:+0100
TZNAME:CET
DTSTART:19701025T030000
RRULE:FREQ=YEARLY;INTERVAL=1;BYDAY=-1SU;BYMONTH=10
END:STANDARD
END:VTIMEZONE
BEGIN:VEVENT
UID:3ce136e82614adae01deabf25532d7f2@gruene-suedhardt.de
URL;VALUE=URI:https://gruene-suedhardt.de/termine/zusammen-demokratie-vor
 -ort-stark-machen/
LOCATION:Blu, Alte Rathausstraße, Bietigheim
SUMMARY:Zusammen Demokratie vor Ort stark machen!
DESCRIPTION;ALTREP="data:text/html,%0A%3Cfigure%20class%3D%22wp-block-ima
 ge%20size-large%22%3E%3Cimg%20src%3D%22https%3A%2F%2Fgruene-suedhardt.de%
 2Fwp-content%2Fuploads%2F2025%2F11%2Fzusammen-demokratie-staerken-819x102
 4.png%22%20alt%3D%22%22%20class%3D%22wp-image-1516%22%20%2F%3E%3C%2Ffigur
 e%3E%0A%0A%0A%0A%3Cp%3E%3C%2Fp%3E%0A%0A%0A%0A%3Cp%3EAuf%20Initiative%20de
 r%20SPD%20Bietigheim%20und%20gemeinsam%20mit%20der%20FWG%20Bietigheim%20s
 ind%20wir%20am%20Samstag%2C%2015.11.25%20auf%20dem%20Blu%20in%20Bietighei
 m%20um%20zusammen%20Demokratie%20vor%20Ort%20stark%20zu%20machen%21%3C%2F
 p%3E%0A%0A%0A%0A%3Cp%3EWir%20laden%20euch%20herzlich%20ein%2C%20bei%20uns
 %20am%20Blu%20in%20Bietigheim%20vorbeizuschauen.%20Besucht%20uns%20gerne%
 20zwischen%208%3A00%20Uhr%20und%2012%3A00%20Uhr%20und%20lasst%20uns%20bei
 %20Kaffee%2FTee%20und%20einem%20Dambedei%20%C3%BCber%20Demokratie%20sprec
 hen%20oder%20%C3%BCber%20alles%2C%20was%20euch%20derzeit%20bewegt.%20Unse
 re%20Demokratie%20lebt%20vom%20Austausch%2C%20von%20Respekt%20und%20Toler
 anz.%20Gerade%20auf%20Ortsebene%20ist%20es%20wichtig%2C%20den%20gesellsch
 aftlichen%20Zusammenhalt%20zu%20st%C3%A4rken%20und%20trotz%20unterschiedl
 icher%20Meinungen%20im%20Gespr%C3%A4ch%20zu%20bleiben.%20Wir%20freuen%20u
 ns%20auf%20einen%20sch%C3%B6nen%20Vormittag%20mit%20vielen%20guten%20Gesp
 r%C3%A4chen%20und%20Begegnungen.%3C%2Fp%3E%0A%0A%0A%0A%3Cp%3E%F0%9F%93%85
 %20Samstag%2C%2015.%20November%202025%3Cbr%3E%F0%9F%95%96%2008%3A00%20bis
 %2012%3A00%20Uhr%3Cbr%3E%F0%9F%91%89%20%22Blu%22%2C%20Alte%20Rathausstra%
 C3%9Fe%2C%2076467%20Bietigheim%3C%2Fp%3E%0A":Auf Initiative der SPD Bieti
 gheim und gemeinsam mit der FWG Bietigheim sind wir am Samstag\, 15.11.25
  auf dem Blu in Bietigheim um zusammen Demokratie vor Ort stark zu machen
 !\n\nWir laden euch herzlich ein\, bei uns am Blu in Bietigheim vorbeizus
 chauen. Besucht uns gerne zwischen 8:00 Uhr und 12:00 Uhr und lasst uns b
 ei Kaffee/Tee und einem Dambedei über Demokratie sprechen oder über all
 es\, was euch derzeit bewegt. Unsere Demokratie lebt vom Austausch\, von 
 Respekt und Toleranz. Gerade auf Ortsebene ist es wichtig\, den gesellsch
 aftlichen Zusammenhalt zu stärken und trotz unterschiedlicher Meinungen 
 im Gespräch zu bleiben. Wir freuen uns auf einen schönen Vormittag mit 
 vielen guten Gesprächen und Begegnungen.\n\n📅 Samstag\, 15. November 
 2025🕖 08:00 bis 12:00 Uhr👉 "Blu"\, Alte Rathausstraße\, 76467 Biet
 igheim
CLASS:PUBLIC
DTSTART;TZID=Europe/Berlin:20251115T080000
DTEND;TZID=Europe/Berlin:20251115T120000
DTSTAMP:20260422T112352
END:VEVENT
END:VCALENDAR